BEGIN:VCALENDAR
VERSION:2.0
PRODID:-//NBS//eStore//Kokedama Creation (GCC Main | April 28, 2026)
CALSCALE:GREGORIAN
METHOD:PUBLISH
BEGIN:VEVENT
DTSTART:20260428T163000
DTEND:20260428T180000
SUMMARY:Kokedama Creation (GCC Main | April 28, 2026)
LOCATION:6000 W Olive Ave.,  Room TBD, Glendale, AZ, 85302
DESCRIPTION:Borrowing from Japanese Bonsai tradition, learn to make a Kokedama (a plant secured in a ball of soil)!  This minimalist plant aesthetic can be used inside or outside of your home. 

Please be prepared to get your hands dirty as you create 2-3 kokedama to take home.  
PRIORITY:3
END:VEVENT
END:VCALENDAR
