BEGIN:VCALENDAR
VERSION:2.0
PRODID:-//NBS//eStore//3-Day High School Summer Film Production Camp (GCC Main | June 16th-18th from 9a-4p daily)
CALSCALE:GREGORIAN
METHOD:PUBLISH
BEGIN:VEVENT
DTSTART:20260616T090000
DTEND:20260618T160000
SUMMARY:3-Day High School Summer Film Production Camp (GCC Main | June 16th-18th from 9a-4p daily)
LOCATION:6000 W Olive Avenue,  Film Studio HT1 - Rm 130, Glendale, AZ, 85302
DESCRIPTION:Do you have a story to tell?  Do you dream of making films? 
Come make a short film with us!
Learn about screenwriting, storyboarding, cinematography and editing from Film & Media Production Faculty at GCC.
Open to high school students aged 14-18.
PRIORITY:3
END:VEVENT
END:VCALENDAR
