BEGIN:VCALENDAR
VERSION:2.0
PRODID:-//NBS//eStore//4-Day Young Chefs From Scratch Cooking Camp for Ages 12–14 (GCC Main | June 8–11, 2026)
CALSCALE:GREGORIAN
METHOD:PUBLISH
BEGIN:VEVENT
DTSTART:20260608T090000
DTEND:20260611T120000
SUMMARY:4-Day Young Chefs From Scratch Cooking Camp for Ages 12–14 (GCC Main | June 8–11, 2026)
LOCATION:6000 W Olive Avenue,  ESN Building (Room 110), Glendale, AZ, 85302
DESCRIPTION:Get cooking in this hands-on camp designed for teens ages 12–14. Over four days, participants will build essential kitchen skills while preparing a variety of recipes from scratch. Students will learn kitchen safety, basic food preparation techniques, and foundational cooking and baking skills while making items such as cookies, fresh pasta, Alfredo sauce, and pizza dough. This camp is all about building confidence in the kitchen, trying new skills, and enjoying the process from start to finish. No prior cooking experience is needed—just come ready to learn, create, and enjoy what you make.
PRIORITY:3
END:VEVENT
END:VCALENDAR
