BEGIN:VCALENDAR
VERSION:2.0
PRODID:-//NBS//eStore//CPR and AED for Non-Healthcare Professionals (GCC Main | May 16 or July 11)
CALSCALE:GREGORIAN
METHOD:PUBLISH
BEGIN:VEVENT
DTSTART:20260516T100000
DTEND:20260711T140000
SUMMARY:CPR and AED for Non-Healthcare Professionals (GCC Main | May 16 or July 11)
LOCATION:6000 W Olive Ave., Room TBD, Glendale, AZ, 85302
DESCRIPTION:The American Heart Association’s BLS course trains participants to promptly recognize several life-threatening emergencies, give high-quality chest compressions, deliver appropriate breaths and ventilations, and provide early use of an AED. The course reflects science and education from the 2025 American Heart Association Guidelines for CPR and Emergency Cardiovascular Care (ECC).
PRIORITY:3
END:VEVENT
END:VCALENDAR
