BEGIN:VCALENDAR
VERSION:2.0
PRODID:-//NBS//eStore//CPR and AED for Non-Healthcare Professionals (GCC North | June 13 or August 8)
CALSCALE:GREGORIAN
METHOD:PUBLISH
BEGIN:VEVENT
DTSTART:20260613T090000
DTEND:20260808T130000
SUMMARY:CPR and AED for Non-Healthcare Professionals (GCC North | June 13 or August 8)
LOCATION:5727 W Happy Valley Rd., Chinle (Room C-130), Glendale, AZ, 85310
DESCRIPTION:The American Heart Association’s BLS course trains participants to promptly recognize several life-threatening emergencies, give high-quality chest compressions, deliver appropriate breaths and ventilations, and provide early use of an AED. The course reflects science and education from the 2025 American Heart Association Guidelines for CPR and Emergency Cardiovascular Care (ECC).
PRIORITY:3
END:VEVENT
END:VCALENDAR
