BEGIN:VCALENDAR
VERSION:2.0
PRODID:-//NBS//eStore//Mother's Day Charcuterie: Make & Take Workshop (GCC Main | May 6, 2026)
CALSCALE:GREGORIAN
METHOD:PUBLISH
BEGIN:VEVENT
DTSTART:20260506T173000
DTEND:20260506T193000
SUMMARY:Mother's Day Charcuterie: Make & Take Workshop (GCC Main | May 6, 2026)
LOCATION:6000 W Olive Ave.,  Room TBD, Glendale, AZ, 85302
DESCRIPTION:Celebrate Mom with a hands-on charcuterie experience perfect for Mother’s Day! Learn how to build a beautiful board featuring sweet and savory pairings such as cheeses, meats, chocolates, fruits, and more. You’ll create your own 8x8 charcuterie board to take home—perfect for a Mother’s Day celebration, a shared experience with someone special, or a thoughtful edible gift.

Along the way, you’ll learn simple design tips, portion planning, and ways to add seasonal flair for a polished presentation. No experience needed—just bring your creativity. We’ll provide all the supplies.
PRIORITY:3
END:VEVENT
END:VCALENDAR
